BEGIN:VCALENDAR
VERSION:2.0
PRODID:-//OBX Go Far - ECPv6.15.17.1//NONSGML v1.0//EN
CALSCALE:GREGORIAN
METHOD:PUBLISH
X-ORIGINAL-URL:https://obxgofar.org
X-WR-CALDESC:Events for OBX Go Far
REFRESH-INTERVAL;VALUE=DURATION:PT1H
X-Robots-Tag:noindex
X-PUBLISHED-TTL:PT1H
BEGIN:VTIMEZONE
TZID:America/New_York
BEGIN:DAYLIGHT
TZOFFSETFROM:-0500
TZOFFSETTO:-0400
TZNAME:EDT
DTSTART:20240310T070000
END:DAYLIGHT
BEGIN:STANDARD
TZOFFSETFROM:-0400
TZOFFSETTO:-0500
TZNAME:EST
DTSTART:20241103T060000
END:STANDARD
BEGIN:DAYLIGHT
TZOFFSETFROM:-0500
TZOFFSETTO:-0400
TZNAME:EDT
DTSTART:20250309T070000
END:DAYLIGHT
BEGIN:STANDARD
TZOFFSETFROM:-0400
TZOFFSETTO:-0500
TZNAME:EST
DTSTART:20251102T060000
END:STANDARD
BEGIN:DAYLIGHT
TZOFFSETFROM:-0500
TZOFFSETTO:-0400
TZNAME:EDT
DTSTART:20260308T070000
END:DAYLIGHT
BEGIN:STANDARD
TZOFFSETFROM:-0400
TZOFFSETTO:-0500
TZNAME:EST
DTSTART:20261101T060000
END:STANDARD
BEGIN:DAYLIGHT
TZOFFSETFROM:-0500
TZOFFSETTO:-0400
TZNAME:EDT
DTSTART:20270314T070000
END:DAYLIGHT
BEGIN:STANDARD
TZOFFSETFROM:-0400
TZOFFSETTO:-0500
TZNAME:EST
DTSTART:20271107T060000
END:STANDARD
END:VTIMEZONE
BEGIN:VEVENT
DTSTART;TZID=America/New_York:20251127T083000
DTEND;TZID=America/New_York:20251127T083000
DTSTAMP:20260423T045238
CREATED:20241114T210720Z
LAST-MODIFIED:20250922T155848Z
UID:146-1764232200-1764232200@obxgofar.org
SUMMARY:OBX Turkey Trot 5K & Fun Run
DESCRIPTION:We are so excited to bring back an awesome Outer Banks tradition in the Town of Southern Shores! Show your thanks this Thanksgiving by running as a family in the 16th annual OBX Turkey Trot. Thanksgiving morning is a perfect time to be surrounded by family and friends in the beautiful town of Southern Shores. Lace up your sneakers and come on out to run or walk with us! We have pancakes for all participants\, one of a kind raffles\, the first place male and female will take home our amazing Thanksgiving Pies specially made for your thanksgiving meal! Each finisher will also receive a finishers themed medal! \nThe OBX Turkey Trot is a 5K and children’s fun run to support the non-profit organization\, OBX GO FAR (Go Out For A Run). OBX GO FAR is a non-profit children’s program designed to fight childhood obesity by educating children on healthy habits and positive character traits all while training for a 5K or Fun Run. Your support in our fundraiser event would help us scholarship more children into the program. This year marks our 15th Anniversary of OBX GO FAR and your support has touched the lives of over 10\,000 participants in our program! \nThis is a family fun event\, if you want to know your time wear a watch or make sure you look at the clock at the finish line! Parents are encouraged to come out and run with their children.
URL:https://obxgofar.org/event/obx-turkey-trot-5k-fun-run/
LOCATION:Southern Shores Pitts Center\, 5377 N Virginia Dare Trail\, Southern Shores\, NC\, 27949
ATTACH;FMTTYPE=image/jpeg:https://obxgofar.org/wp-content/uploads/2024/11/OBX-Turkey-Trot-5K-2025.jpg
END:VEVENT
BEGIN:VEVENT
DTSTART;TZID=America/New_York:20260502T080000
DTEND;TZID=America/New_York:20260502T080000
DTSTAMP:20260423T045238
CREATED:20241114T200430Z
LAST-MODIFIED:20260325T163152Z
UID:137-1777708800-1777708800@obxgofar.org
SUMMARY:Miles Cupcake 5K & Fun Run
DESCRIPTION:The “Miles Cupcake 5k and Fun Run” is named after Shane Miles\, former GO FAR Coach and ultra runner with a true love for people and running! Shane helped coach when the program had just begun on the Outer Banks and continued to volunteer over the years. His passion for running was contagious and inspiring\, his dedication and determination were unwavering. OBX GO FAR is proud to name its Miles College Education Fund in honor of Shane Miles. The proceeds from this event will go to OBX GO FAR a non-profit children’s running program designed to build healthier\, happier children and families. Your registration will help fund the Miles College Education Fund\, provide scholarships for children who cannot meet registration fees in the GO FAR Children’s program as well as help us cover the essential costs of our program. \nYou can create a TEAM with your friends\, family or co-workers and WIN the “Biggest Batch” Cupcake Trophy! This milestone event is all about celebrating community\, fitness and sweet treats that make life a little more fun. Whether you’re a seasoned runner or just in it for the cupcakes this event has something for everyone! \nJoin local Dare County GO FAR youth in our Miles Cupcake 5K and 1 Mile Fun Run presented by OBX Go Far on Saturday\, May 2nd beginning at 8 AM! We have a festive start and finish in downtown Manteo with one of a kind custom finisher’s medal and of course cupcakes! Packet Pick-up will take place Friday May 1st\, 2:30p -5:30p\, location TBD; the morning of the race\, beginning at 7:00-7:30 AM. \n8:00 AM 5k Start and 8:05 AM Fun Run start. \nRunners must register by April 10th to guarantee a cupcake tee shirt! \nWhy should you join us?\n\nYour Cupcake Team could win the amazing Cupcake “Biggest Batch” Trophy!\nAwesome post-race party with prizes for top finishers M/F & vendors on the lawn with music to get your boogie on!\nDid we mention CUPCAKES at the finish?!\nEnjoy the scenic route of beautiful downtown Manteo!\nIt’s a supportive atmosphere with coach’s\, friends and family!\nBy running you are supporting our GO FAR mission to encourage youth and their families to get active and make healthy lifestyle choices!\n\nParking will be TBD. Race Course/Maps are on our Facebook page @ OBX GOFAR for the 5k and 1 mile start! Course will be an out and back.
URL:https://obxgofar.org/event/miles-cupcake-5k-fun-run/
LOCATION:Manteo\, NC\, Manteo\, NC\, 27954
ATTACH;FMTTYPE=image/jpeg:https://obxgofar.org/wp-content/uploads/2024/11/Miles-Cupcake-5K-FunRun-2026.jpg
END:VEVENT
END:VCALENDAR